BEGIN:VCALENDAR
VERSION:2.0
PRODID:-//Schweinfurter Ruder-Club Franken - ECPv6.15.20//NONSGML v1.0//EN
CALSCALE:GREGORIAN
METHOD:PUBLISH
X-ORIGINAL-URL:https://swrc.uber.space
X-WR-CALDESC:Veranstaltungen für Schweinfurter Ruder-Club Franken
REFRESH-INTERVAL;VALUE=DURATION:PT1H
X-Robots-Tag:noindex
X-PUBLISHED-TTL:PT1H
BEGIN:VTIMEZONE
TZID:Europe/Berlin
BEGIN:DAYLIGHT
TZOFFSETFROM:+0100
TZOFFSETTO:+0200
TZNAME:CEST
DTSTART:20250330T010000
END:DAYLIGHT
BEGIN:STANDARD
TZOFFSETFROM:+0200
TZOFFSETTO:+0100
TZNAME:CET
DTSTART:20251026T010000
END:STANDARD
BEGIN:DAYLIGHT
TZOFFSETFROM:+0100
TZOFFSETTO:+0200
TZNAME:CEST
DTSTART:20260329T010000
END:DAYLIGHT
BEGIN:STANDARD
TZOFFSETFROM:+0200
TZOFFSETTO:+0100
TZNAME:CET
DTSTART:20261025T010000
END:STANDARD
BEGIN:DAYLIGHT
TZOFFSETFROM:+0100
TZOFFSETTO:+0200
TZNAME:CEST
DTSTART:20270328T010000
END:DAYLIGHT
BEGIN:STANDARD
TZOFFSETFROM:+0200
TZOFFSETTO:+0100
TZNAME:CET
DTSTART:20271031T010000
END:STANDARD
BEGIN:DAYLIGHT
TZOFFSETFROM:+0100
TZOFFSETTO:+0200
TZNAME:CEST
DTSTART:20280326T010000
END:DAYLIGHT
BEGIN:STANDARD
TZOFFSETFROM:+0200
TZOFFSETTO:+0100
TZNAME:CET
DTSTART:20281029T010000
END:STANDARD
END:VTIMEZONE
BEGIN:VEVENT
DTSTART;TZID=Europe/Berlin:20260509T080000
DTEND;TZID=Europe/Berlin:20260509T140000
DTSTAMP:20260420T060256
CREATED:20251217T113117Z
LAST-MODIFIED:20251217T114215Z
UID:3424-1778313600-1778335200@swrc.uber.space
SUMMARY:Frühjahrswanderung
DESCRIPTION:Anm.d.Red.: Die Uhrzeit ist noch NICHT bestätigt!
URL:https://swrc.uber.space/termin/fruehjahrswanderung-6/
END:VEVENT
BEGIN:VEVENT
DTSTART;TZID=Europe/Berlin:20260514T120000
DTEND;TZID=Europe/Berlin:20260514T163000
DTSTAMP:20260420T060256
CREATED:20260316T170149Z
LAST-MODIFIED:20260316T170149Z
UID:3587-1778760000-1778776200@swrc.uber.space
SUMMARY:Frühlingsbuffet
DESCRIPTION:Für ALLE\, die gutes Essen zu schätzen wissen – also nicht nur für Ruder-Club-Mitglieder – bietet Sven Mirring wieder spezielle Gaumenfreuden.\nDie Details finden sich im Beitrag „Frühlingsbuffet„.
URL:https://swrc.uber.space/termin/fruehlingsbuffet-2/
LOCATION:Karl-Weppert-Saal / Bootshaus
END:VEVENT
BEGIN:VEVENT
DTSTART;TZID=Europe/Berlin:20261018T150000
DTEND;TZID=Europe/Berlin:20261018T173000
DTSTAMP:20260420T060256
CREATED:20251217T113159Z
LAST-MODIFIED:20251217T113159Z
UID:3426-1792335600-1792344600@swrc.uber.space
SUMMARY:Abrudern
DESCRIPTION:
URL:https://swrc.uber.space/termin/abrudern-3/
END:VEVENT
BEGIN:VEVENT
DTSTART;TZID=Europe/Berlin:20261018T173000
DTEND;TZID=Europe/Berlin:20261018T200000
DTSTAMP:20260420T060256
CREATED:20251217T113256Z
LAST-MODIFIED:20251217T113256Z
UID:3428-1792344600-1792353600@swrc.uber.space
SUMMARY:Gemeinsames Essen
DESCRIPTION:
URL:https://swrc.uber.space/termin/gemeinsames-essen-3/
END:VEVENT
BEGIN:VEVENT
DTSTART;TZID=Europe/Berlin:20261024T090000
DTEND;TZID=Europe/Berlin:20261024T130000
DTSTAMP:20260420T060256
CREATED:20251217T113347Z
LAST-MODIFIED:20251217T114135Z
UID:3430-1792832400-1792846800@swrc.uber.space
SUMMARY:Stegabbau / Ramadama
DESCRIPTION:
URL:https://swrc.uber.space/termin/stegabbau-ramadama-2/
END:VEVENT
BEGIN:VEVENT
DTSTART;TZID=Europe/Berlin:20261113T193000
DTEND;TZID=Europe/Berlin:20261113T210000
DTSTAMP:20260420T060256
CREATED:20251217T113434Z
LAST-MODIFIED:20251217T113434Z
UID:3432-1794598200-1794603600@swrc.uber.space
SUMMARY:Ehrenabend
DESCRIPTION:
URL:https://swrc.uber.space/termin/ehrenabend-3/
END:VEVENT
BEGIN:VEVENT
DTSTART;TZID=Europe/Berlin:20261122T120000
DTEND;TZID=Europe/Berlin:20261122T150000
DTSTAMP:20260420T060256
CREATED:20251217T113617Z
LAST-MODIFIED:20251217T113617Z
UID:3434-1795348800-1795359600@swrc.uber.space
SUMMARY:Clubschlachtschüssel
DESCRIPTION:
URL:https://swrc.uber.space/termin/clubschlachtschuessel-5/
END:VEVENT
BEGIN:VEVENT
DTSTART;TZID=Europe/Berlin:20261228T180000
DTEND;TZID=Europe/Berlin:20261228T200000
DTSTAMP:20260420T060256
CREATED:20251217T113708Z
LAST-MODIFIED:20251217T113708Z
UID:3436-1798480800-1798488000@swrc.uber.space
SUMMARY:Weihnachtlicher Dämmerschoppen
DESCRIPTION:
URL:https://swrc.uber.space/termin/weihnachtlicher-daemmerschoppen/
END:VEVENT
BEGIN:VEVENT
DTSTART;TZID=Europe/Berlin:20270109T070000
DTEND;TZID=Europe/Berlin:20270209T170000
DTSTAMP:20260420T060256
CREATED:20251217T113902Z
LAST-MODIFIED:20251217T113902Z
UID:3438-1799478000-1802192400@swrc.uber.space
SUMMARY:Kreuzbergwanderung
DESCRIPTION:Anm.d.Red.: Die Uhrzeiten sind noch NICHT bestätigt!
URL:https://swrc.uber.space/termin/kreuzbergwanderung-6/
END:VEVENT
BEGIN:VEVENT
DTSTART;TZID=Europe/Berlin:20270117T110000
DTEND;TZID=Europe/Berlin:20270117T130000
DTSTAMP:20260420T060256
CREATED:20251217T114007Z
LAST-MODIFIED:20251217T114007Z
UID:3440-1800183600-1800190800@swrc.uber.space
SUMMARY:Neujahrsempfang
DESCRIPTION:
URL:https://swrc.uber.space/termin/neujahrsempfang-3/
END:VEVENT
END:VCALENDAR